BEGIN:VCALENDAR
VERSION:2.0
PRODID:-//Miklós TV - ECPv6.15.20//NONSGML v1.0//EN
CALSCALE:GREGORIAN
METHOD:PUBLISH
X-WR-CALNAME:Miklós TV
X-ORIGINAL-URL:https://miklostv.com/new
X-WR-CALDESC:Események Miklós TV
REFRESH-INTERVAL;VALUE=DURATION:PT1H
X-Robots-Tag:noindex
X-PUBLISHED-TTL:PT1H
BEGIN:VTIMEZONE
TZID:UTC
BEGIN:STANDARD
TZOFFSETFROM:+0000
TZOFFSETTO:+0000
TZNAME:UTC
DTSTART:20220101T000000
END:STANDARD
END:VTIMEZONE
BEGIN:VEVENT
DTSTART;TZID=UTC:20230111T163000
DTEND;TZID=UTC:20230111T173000
DTSTAMP:20260421T195810
CREATED:20221222T104010Z
LAST-MODIFIED:20221222T185457Z
UID:5175-1673454600-1673458200@miklostv.com
SUMMARY:Az urivi áttörés emléknapja - megemlékezés
DESCRIPTION:
URL:https://miklostv.com/new/event/az-urivi-attores-emleknapja-megemlekezes/
LOCATION:Törökszentmiklós\, Kossuth tér
ATTACH;FMTTYPE=image/jpeg:https://miklostv.com/new/wp-content/uploads/2022/12/Urivi2023.jpg
END:VEVENT
BEGIN:VEVENT
DTSTART;TZID=UTC:20230118T150000
DTEND;TZID=UTC:20230118T170000
DTSTAMP:20260421T195810
CREATED:20230114T174049Z
LAST-MODIFIED:20230114T174519Z
UID:5242-1674054000-1674061200@miklostv.com
SUMMARY:"A Surjányi ásatás" Héja László előadása
DESCRIPTION:
URL:https://miklostv.com/new/event/a-surjanyi-asatas-heja-laszlo-eloadasa/
LOCATION:Butyka Béla Helytörténeti Gyűjtemény\, Almásy út 20\, Törökszentmiklós
ATTACH;FMTTYPE=image/jpeg:https://miklostv.com/new/wp-content/uploads/2023/01/324923731_845499259864111_1690575007994069238_n.jpg
END:VEVENT
BEGIN:VEVENT
DTSTART;TZID=UTC:20230123T170000
DTEND;TZID=UTC:20230123T190000
DTSTAMP:20260421T195810
CREATED:20230118T183939Z
LAST-MODIFIED:20230123T110416Z
UID:5264-1674493200-1674500400@miklostv.com
SUMMARY:Magyar Kultúra Napja
DESCRIPTION:
URL:https://miklostv.com/new/event/a-magyar-kultura-napja/
LOCATION:Városháza\, Kossuth Lajos 135\, Törökszentmiklós\, -- Select --\, 5200\, Magyarország
ATTACH;FMTTYPE=image/jpeg:https://miklostv.com/new/wp-content/uploads/2023/01/kultura.jpg
END:VEVENT
BEGIN:VEVENT
DTSTART;TZID=UTC:20230124T180000
DTEND;TZID=UTC:20230124T200000
DTSTAMP:20260421T195810
CREATED:20230118T184314Z
LAST-MODIFIED:20230118T184813Z
UID:5271-1674583200-1674590400@miklostv.com
SUMMARY:A régi magyar konyha\, Csányi Sándor " Gulyáskirály" előadása
DESCRIPTION:
URL:https://miklostv.com/new/event/a-regi-magyar-konyha-csanyi-sandor-gulyaskiraly-eloadasa/
LOCATION:Butyka Béla Helytörténeti Gyűjtemény\, Almásy út 20\, Törökszentmiklós
ATTACH;FMTTYPE=image/jpeg:https://miklostv.com/new/wp-content/uploads/2023/01/ertek_januar.jpg
END:VEVENT
BEGIN:VEVENT
DTSTART;TZID=UTC:20230125T170000
DTEND;TZID=UTC:20230125T180000
DTSTAMP:20260421T195810
CREATED:20230114T174241Z
LAST-MODIFIED:20230118T184415Z
UID:5247-1674666000-1674669600@miklostv.com
SUMMARY:Radeczky Erzsébet: CSODÁLATOS CIPÉSZVILÁG kiállítás
DESCRIPTION:
URL:https://miklostv.com/new/event/radeczky-erzsebet-csodalatos-cipeszvilag-kiallitas/
LOCATION:Butyka Béla Helytörténeti Gyűjtemény\, Almásy út 20\, Törökszentmiklós
ATTACH;FMTTYPE=image/jpeg:https://miklostv.com/new/wp-content/uploads/2023/01/323417353_1585514678555671_37084385971404868_n.jpg
END:VEVENT
BEGIN:VEVENT
DTSTART;TZID=UTC:20230126T180000
DTEND;TZID=UTC:20230126T190000
DTSTAMP:20260421T195810
CREATED:20230118T184133Z
LAST-MODIFIED:20230118T184134Z
UID:5268-1674756000-1674759600@miklostv.com
SUMMARY:Családkutató kör
DESCRIPTION:
URL:https://miklostv.com/new/event/csaladkutato-kor/
LOCATION:Butyka Béla Helytörténeti Gyűjtemény\, Almásy út 20\, Törökszentmiklós
ATTACH;FMTTYPE=image/jpeg:https://miklostv.com/new/wp-content/uploads/2023/01/csaladfa_januar.jpg
END:VEVENT
END:VCALENDAR