BEGIN:VCALENDAR
VERSION:2.0
PRODID:-//Miklós TV - ECPv6.15.20//NONSGML v1.0//EN
CALSCALE:GREGORIAN
METHOD:PUBLISH
X-WR-CALNAME:Miklós TV
X-ORIGINAL-URL:https://miklostv.com/new
X-WR-CALDESC:Események Miklós TV
REFRESH-INTERVAL;VALUE=DURATION:PT1H
X-Robots-Tag:noindex
X-PUBLISHED-TTL:PT1H
BEGIN:VTIMEZONE
TZID:UTC
BEGIN:STANDARD
TZOFFSETFROM:+0000
TZOFFSETTO:+0000
TZNAME:UTC
DTSTART:20210101T000000
END:STANDARD
END:VTIMEZONE
BEGIN:VEVENT
DTSTART;TZID=UTC:20221216T170000
DTEND;TZID=UTC:20221216T200000
DTSTAMP:20260421T235423
CREATED:20221211T230906Z
LAST-MODIFIED:20221222T185643Z
UID:5110-1671210000-1671220800@miklostv.com
SUMMARY:Adventi Forgatag
DESCRIPTION:
URL:https://miklostv.com/new/event/adventi-forgat/
LOCATION:Törökszentmiklós\, Kossuth tér
ATTACH;FMTTYPE=image/jpeg:https://miklostv.com/new/wp-content/uploads/2022/12/318510599_3542096479410262_319224025927599325_n.jpg
END:VEVENT
END:VCALENDAR