BEGIN:VCALENDAR
VERSION:2.0
PRODID:-//Miklós TV - ECPv6.15.20//NONSGML v1.0//EN
CALSCALE:GREGORIAN
METHOD:PUBLISH
X-WR-CALNAME:Miklós TV
X-ORIGINAL-URL:https://miklostv.com/new
X-WR-CALDESC:Események Miklós TV
REFRESH-INTERVAL;VALUE=DURATION:PT1H
X-Robots-Tag:noindex
X-PUBLISHED-TTL:PT1H
BEGIN:VTIMEZONE
TZID:UTC
BEGIN:STANDARD
TZOFFSETFROM:+0000
TZOFFSETTO:+0000
TZNAME:UTC
DTSTART:20210101T000000
END:STANDARD
END:VTIMEZONE
BEGIN:VEVENT
DTSTART;TZID=UTC:20221209T093000
DTEND;TZID=UTC:20221209T140000
DTSTAMP:20260421T235920
CREATED:20221211T231810Z
LAST-MODIFIED:20221222T185616Z
UID:5118-1670578200-1670594400@miklostv.com
SUMMARY:Míves Portékákl Vására
DESCRIPTION:
URL:https://miklostv.com/new/event/mives-portekakl-vasara/
LOCATION:Alkotóház\, Kutas Bálint utca 7\, Törökszentmiklós\, 5200\, Magyarország
ATTACH;FMTTYPE=image/jpeg:https://miklostv.com/new/wp-content/uploads/2022/12/318478114_3542082342745009_6571806107018293584_n.jpg
END:VEVENT
END:VCALENDAR